Workbook

Sheet Instructions
A1: How to use this sheet
A3: 1. Replace [category], [city], [business name] (and any other square brackets) with your business's details.
A4: 2. Open a new chat for each question.
A5: 3. Use a temporary chat or stay logged out.
A6: 4. Paste the question without changing it.
A7: 5. Repeat the check once a month.

Sheet Check
A1: # | B1: Group | C1: Question | D1: Date | E1: Engine | F1: Mentioned? | G1: Position | H1: Competitors mentioned | I1: Sources cited | J1: Description accurate? | K1: Notes
A2: 1 | B2: Recommendation | C2: Which [category] company do you recommend in [city]?
A3: 1 | B3: Recommendation | C3: (Run 2) Which [category] company do you recommend in [city]?
A4: 2 | B4: Recommendation | C4: Who are the best providers of [service] in [country]?
A5: 2 | B5: Recommendation | C5: (Run 2) Who are the best providers of [service] in [country]?
A6: 3 | B6: Recommendation | C6: I need [service] for a small business. Who should I look at?
A7: 3 | B7: Recommendation | C7: (Run 2) I need [service] for a small business. Who should I look at?
A8: 4 | B8: Recommendation | C8: Give me 3 options for [service] with pros and cons.
A9: 4 | B9: Recommendation | C9: (Run 2) Give me 3 options for [service] with pros and cons.
A10: 5 | B10: Problem | C10: [The problem in a customer's words], what should I do?
A11: 6 | B11: Problem | C11: How do I find a reliable [professional] for [problem]?
A12: 7 | B12: Problem | C12: Should I do [task] myself or hire someone?
A13: 8 | B13: Problem | C13: What's the fastest way to [the outcome the customer wants]?
... A25: 20 | B25: Brand | C25: How much does [service] cost at [business name]?

Sheet Summary
A1: Overview
A2: Engine | B2: % mentioned (questions 1-16) | C2: % description accurate (questions 17-20)
A3: ChatGPT | B3: =IFERROR(COUNTIFS(Check!$E$2:$E$500,$A3,Check!$A$2:$A$500,"<=16",Check!$F$2:$F$500,"Yes")/COUNTIFS(Check!$E$2:$E$500,$A3,Check!$A$2:$A$500,"<=16",Check!$F$2:$F$500,"<>"),0) | C3: =IFERROR(COUNTIFS(Check!$E$2:$E$500,$A3,Check!$A$2:$A$500,">=17",Check!$J$2:$J$500,"Yes")/COUNTIFS(Check!$E$2:$E$500,$A3,Check!$A$2:$A$500,">=17",Check!$J$2:$J$500,"<>"),0)
A4: Gemini | B4: =IFERROR(COUNTIFS(Check!$E$2:$E$500,$A4,Check!$A$2:$A$500,"<=16",Check!$F$2:$F$500,"Yes")/COUNTIFS(Check!$E$2:$E$500,$A4,Check!$A$2:$A$500,"<=16",Check!$F$2:$F$500,"<>"),0) | C4: =IFERROR(COUNTIFS(Check!$E$2:$E$500,$A4,Check!$A$2:$A$500,">=17",Check!$J$2:$J$500,"Yes")/COUNTIFS(Check!$E$2:$E$500,$A4,Check!$A$2:$A$500,">=17",Check!$J$2:$J$500,"<>"),0)
A5: Google AI | B5: =IFERROR(COUNTIFS(Check!$E$2:$E$500,$A5,Check!$A$2:$A$500,"<=16",Check!$F$2:$F$500,"Yes")/COUNTIFS(Check!$E$2:$E$500,$A5,Check!$A$2:$A$500,"<=16",Check!$F$2:$F$500,"<>"),0) | C5: =IFERROR(COUNTIFS(Check!$E$2:$E$500,$A5,Check!$A$2:$A$500,">=17",Check!$J$2:$J$500,"Yes")/COUNTIFS(Check!$E$2:$E$500,$A5,Check!$A$2:$A$500,">=17",Check!$J$2:$J$500,"<>"),0)
A7: By month (enter the first day of the month in column A)
A8: Month | B8: ChatGPT: % mentioned | C8: Gemini: % mentioned | D8: Google AI: % mentioned | E8: ChatGPT: % accurate | F8: Gemini: % accurate | G8: Google AI: % accurate
B9: =IF($A9="",0,IFERROR(COUNTIFS(Check!$E$2:$E$500,"ChatGPT",Check!$A$2:$A$500,"<=16",Check!$F$2:$F$500,"Yes",Check!$D$2:$D$500,">="&$A9,Check!$D$2:$D$500,"<"&EDATE($A9,1))/COUNTIFS(Check!$E$2:$E$500,"ChatGPT",Check!$A$2:$A$500,"<=16",Check!$F$2:$F$500,"<>",Check!$D$2:$D$500,">="&$A9,Check!$D$2:$D$500,"<"&EDATE($A9,1)),0)) | C9: =IF($A9="",0,IFERROR(COUNTIFS(Check!$E$2:$E$500,"Gemini",Check!$A$2:$A$500,"<=16",Check!$F$2:$F$500,"Yes",Check!$D$2:$D$500,">="&$A9,Check!$D$2:$D$500,"<"&EDATE($A9,1))/COUNTIFS(Check!$E$2:$E$500,"Gemini",Check!$A$2:$A$500,"<=16",Check!$F$2:$F$500,"<>",Check!$D$2:$D$500,">="&$A9,Check!$D$2:$D$500,"<"&EDATE($A9,1)),0)) | D9: =IF($A9="",0,IFERROR(COUNTIFS(Check!$E$2:$E$500,"Google AI",Check!$A$2:$A$500,"<=16",Check!$F$2:$F$500,"Yes",Check!$D$2:$D$500,">="&$A9,Check!$D$2:$D$500,"<"&EDATE($A9,1))/COUNTIFS(Check!$E$2:$E$500,"Google AI",Check!$A$2:$A$500,"<=16",Check!$F$2:$F$500,"<>",Check!$D$2:$D$500,">="&$A9,Check!$D$2:$D$500,"<"&EDATE($A9,1)),0)) | E9: =IF($A9="",0,IFERROR(COUNTIFS(Check!$E$2:$E$500,"ChatGPT",Check!$A$2:$A$500,">=17",Check!$J$2:$J$500,"Yes",Check!$D$2:$D$500,">="&$A9,Check!$D$2:$D$500,"<"&EDATE($A9,1))/COUNTIFS(Check!$E$2:$E$500,"ChatGPT",Check!$A$2:$A$500,">=17",Check!$J$2:$J$500,"<>",Check!$D$2:$D$500,">="&$A9,Check!$D$2:$D$500,"<"&EDATE($A9,1)),0)) | F9: =IF($A9="",0,IFERROR(COUNTIFS(Check!$E$2:$E$500,"Gemini",Check!$A$2:$A$500,">=17",Check!$J$2:$J$500,"Yes",Check!$D$2:$D$500,">="&$A9,Check!$D$2:$D$500,"<"&EDATE($A9,1))/COUNTIFS(Check!$E$2:$E$500,"Gemini",Check!$A$2:$A$500,">=17",Check!$J$2:$J$500,"<>",Check!$D$2:$D$500,">="&$A9,Check!$D$2:$D$500,"<"&EDATE($A9,1)),0)) | G9: =IF($A9="",0,IFERROR(COUNTIFS(Check!$E$2:$E$500,"Google AI",Check!$A$2:$A$500,">=17",Check!$J$2:$J$500,"Yes",Check!$D$2:$D$500,">="&$A9,Check!$D$2:$D$500,"<"&EDATE($A9,1))/COUNTIFS(Check!$E$2:$E$500,"Google AI",Check!$A$2:$A$500,">=17",Check!$J$2:$J$500,"<>",Check!$D$2:$D$500,">="&$A9,Check!$D$2:$D$500,"<"&EDATE($A9,1)),0))
B10: =IF($A10="",0,IFERROR(COUNTIFS(Check!$E$2:$E$500,"ChatGPT",Check!$A$2:$A$500,"<=16",Check!$F$2:$F$500,"Yes",Check!$D$2:$D$500,">="&$A10,Check!$D$2:$D$500,"<"&EDATE($A10,1))/COUNTIFS(Check!$E$2:$E$500,"ChatGPT",Check!$A$2:$A$500,"<=16",Check!$F$2:$F$500,"<>",Check!$D$2:$D$500,">="&$A10,Check!$D$2:$D$500,"<"&EDATE($A10,1)),0)) | C10: =IF($A10="",0,IFERROR(COUNTIFS(Check!$E$2:$E$500,"Gemini",Check!$A$2:$A$500,"<=16",Check!$F$2:$F$500,"Yes",Check!$D$2:$D$500,">="&$A10,Check!$D$2:$D$500,"<"&EDATE($A10,1))/COUNTIFS(Check!$E$2:$E$500,"Gemini",Check!$A$2:$A$500,"<=16",Check!$F$2:$F$500,"<>",Check!$D$2:$D$500,">="&$A10,Check!$D$2:$D$500,"<"&EDATE($A10,1)),0)) | D10: =IF($A10="",0,IFERROR(COUNTIFS(Check!$E$2:$E$500,"Google AI",Check!$A$2:$A$500,"<=16",Check!$F$2:$F$500,"Yes",Check!$D$2:$D$500,">="&$A10,Check!$D$2:$D$500,"<"&EDATE($A10,1))/COUNTIFS(Check!$E$2:$E$500,"Google AI",Check!$A$2:$A$500,"<=16",Check!$F$2:$F$500,"<>",Check!$D$2:$D$500,">="&$A10,Check!$D$2:$D$500,"<"&EDATE($A10,1)),0)) | E10: =IF($A10="",0,IFERROR(COUNTIFS(Check!$E$2:$E$500,"ChatGPT",Check!$A$2:$A$500,">=17",Check!$J$2:$J$500,"Yes",Check!$D$2:$D$500,">="&$A10,Check!$D$2:$D$500,"<"&EDATE($A10,1))/COUNTIFS(Check!$E$2:$E$500,"ChatGPT",Check!$A$2:$A$500,">=17",Check!$J$2:$J$500,"<>",Check!$D$2:$D$500,">="&$A10,Check!$D$2:$D$500,"<"&EDATE($A10,1)),0)) | F10: =IF($A10="",0,IFERROR(COUNTIFS(Check!$E$2:$E$500,"Gemini",Check!$A$2:$A$500,">=17",Check!$J$2:$J$500,"Yes",Check!$D$2:$D$500,">="&$A10,Check!$D$2:$D$500,"<"&EDATE($A10,1))/COUNTIFS(Check!$E$2:$E$500,"Gemini",Check!$A$2:$A$500,">=17",Check!$J$2:$J$500,"<>",Check!$D$2:$D$500,">="&$A10,Check!$D$2:$D$500,"<"&EDATE($A10,1)),0)) | G10: =IF($A10="",0,IFERROR(COUNTIFS(Check!$E$2:$E$500,"Google AI",Check!$A$2:$A$500,">=17",Check!$J$2:$J$500,"Yes",Check!$D$2:$D$500,">="&$A10,Check!$D$2:$D$500,"<"&EDATE($A10,1))/COUNTIFS(Check!$E$2:$E$500,"Google AI",Check!$A$2:$A$500,">=17",Check!$J$2:$J$500,"<>",Check!$D$2:$D$500,">="&$A10,Check!$D$2:$D$500,"<"&EDATE($A10,1)),0))
B11: =IF($A11="",0,IFERROR(COUNTIFS(Check!$E$2:$E$500,"ChatGPT",Check!$A$2:$A$500,"<=16",Check!$F$2:$F$500,"Yes",Check!$D$2:$D$500,">="&$A11,Check!$D$2:$D$500,"<"&EDATE($A11,1))/COUNTIFS(Check!$E$2:$E$500,"ChatGPT",Check!$A$2:$A$500,"<=16",Check!$F$2:$F$500,"<>",Check!$D$2:$D$500,">="&$A11,Check!$D$2:$D$500,"<"&EDATE($A11,1)),0)) | C11: =IF($A11="",0,IFERROR(COUNTIFS(Check!$E$2:$E$500,"Gemini",Check!$A$2:$A$500,"<=16",Check!$F$2:$F$500,"Yes",Check!$D$2:$D$500,">="&$A11,Check!$D$2:$D$500,"<"&EDATE($A11,1))/COUNTIFS(Check!$E$2:$E$500,"Gemini",Check!$A$2:$A$500,"<=16",Check!$F$2:$F$500,"<>",Check!$D$2:$D$500,">="&$A11,Check!$D$2:$D$500,"<"&EDATE($A11,1)),0)) | D11: =IF($A11="",0,IFERROR(COUNTIFS(Check!$E$2:$E$500,"Google AI",Check!$A$2:$A$500,"<=16",Check!$F$2:$F$500,"Yes",Check!$D$2:$D$500,">="&$A11,Check!$D$2:$D$500,"<"&EDATE($A11,1))/COUNTIFS(Check!$E$2:$E$500,"Google AI",Check!$A$2:$A$500,"<=16",Check!$F$2:$F$500,"<>",Check!$D$2:$D$500,">="&$A11,Check!$D$2:$D$500,"<"&EDATE($A11,1)),0)) | E11: =IF($A11="",0,IFERROR(COUNTIFS(Check!$E$2:$E$500,"ChatGPT",Check!$A$2:$A$500,">=17",Check!$J$2:$J$500,"Yes",Check!$D$2:$D$500,">="&$A11,Check!$D$2:$D$500,"<"&EDATE($A11,1))/COUNTIFS(Check!$E$2:$E$500,"ChatGPT",Check!$A$2:$A$500,">=17",Check!$J$2:$J$500,"<>",Check!$D$2:$D$500,">="&$A11,Check!$D$2:$D$500,"<"&EDATE($A11,1)),0)) | F11: =IF($A11="",0,IFERROR(COUNTIFS(Check!$E$2:$E$500,"Gemini",Check!$A$2:$A$500,">=17",Check!$J$2:$J$500,"Yes",Check!$D$2:$D$500,">="&$A11,Check!$D$2:$D$500,"<"&EDATE($A11,1))/COUNTIFS(Check!$E$2:$E$500,"Gemini",Check!$A$2:$A$500,">=17",Check!$J$2:$J$500,"<>",Check!$D$2:$D$500,">="&$A11,Check!$D$2:$D$500,"<"&EDATE($A11,1)),0)) | G11: =IF($A11="",0,IFERROR(COUNTIFS(Check!$E$2:$E$500,"Google AI",Check!$A$2:$A$500,">=17",Check!$J$2:$J$500,"Yes",Check!$D$2:$D$500,">="&$A11,Check!$D$2:$D$500,"<"&EDATE($A11,1))/COUNTIFS(Check!$E$2:$E$500,"Google AI",Check!$A$2:$A$500,">=17",Check!$J$2:$J$500,"<>",Check!$D$2:$D$500,">="&$A11,Check!$D$2:$D$500,"<"&EDATE($A11,1)),0))
B12: =IF($A12="",0,IFERROR(COUNTIFS(Check!$E$2:$E$500,"ChatGPT",Check!$A$2:$A$500,"<=16",Check!$F$2:$F$500,"Yes",Check!$D$2:$D$500,">="&$A12,Check!$D$2:$D$500,"<"&EDATE($A12,1))/COUNTIFS(Check!$E$2:$E$500,"ChatGPT",Check!$A$2:$A$500,"<=16",Check!$F$2:$F$500,"<>",Check!$D$2:$D$500,">="&$A12,Check!$D$2:$D$500,"<"&EDATE($A12,1)),0)) | C12: =IF($A12="",0,IFERROR(COUNTIFS(Check!$E$2:$E$500,"Gemini",Check!$A$2:$A$500,"<=16",Check!$F$2:$F$500,"Yes",Check!$D$2:$D$500,">="&$A12,Check!$D$2:$D$500,"<"&EDATE($A12,1))/COUNTIFS(Check!$E$2:$E$500,"Gemini",Check!$A$2:$A$500,"<=16",Check!$F$2:$F$500,"<>",Check!$D$2:$D$500,">="&$A12,Check!$D$2:$D$500,"<"&EDATE($A12,1)),0)) | D12: =IF($A12="",0,IFERROR(COUNTIFS(Check!$E$2:$E$500,"Google AI",Check!$A$2:$A$500,"<=16",Check!$F$2:$F$500,"Yes",Check!$D$2:$D$500,">="&$A12,Check!$D$2:$D$500,"<"&EDATE($A12,1))/COUNTIFS(Check!$E$2:$E$500,"Google AI",Check!$A$2:$A$500,"<=16",Check!$F$2:$F$500,"<>",Check!$D$2:$D$500,">="&$A12,Check!$D$2:$D$500,"<"&EDATE($A12,1)),0)) | E12: =IF($A12="",0,IFERROR(COUNTIFS(Check!$E$2:$E$500,"ChatGPT",Check!$A$2:$A$500,">=17",Check!$J$2:$J$500,"Yes",Check!$D$2:$D$500,">="&$A12,Check!$D$2:$D$500,"<"&EDATE($A12,1))/COUNTIFS(Check!$E$2:$E$500,"ChatGPT",Check!$A$2:$A$500,">=17",Check!$J$2:$J$500,"<>",Check!$D$2:$D$500,">="&$A12,Check!$D$2:$D$500,"<"&EDATE($A12,1)),0)) | F12: =IF($A12="",0,IFERROR(COUNTIFS(Check!$E$2:$E$500,"Gemini",Check!$A$2:$A$500,">=17",Check!$J$2:$J$500,"Yes",Check!$D$2:$D$500,">="&$A12,Check!$D$2:$D$500,"<"&EDATE($A12,1))/COUNTIFS(Check!$E$2:$E$500,"Gemini",Check!$A$2:$A$500,">=17",Check!$J$2:$J$500,"<>",Check!$D$2:$D$500,">="&$A12,Check!$D$2:$D$500,"<"&EDATE($A12,1)),0)) | G12: =IF($A12="",0,IFERROR(COUNTIFS(Check!$E$2:$E$500,"Google AI",Check!$A$2:$A$500,">=17",Check!$J$2:$J$500,"Yes",Check!$D$2:$D$500,">="&$A12,Check!$D$2:$D$500,"<"&EDATE($A12,1))/COUNTIFS(Check!$E$2:$E$500,"Google AI",Check!$A$2:$A$500,">=17",Check!$J$2:$J$500,"<>",Check!$D$2:$D$500,">="&$A12,Check!$D$2:$D$500,"<"&EDATE($A12,1)),0))
B13: =IF($A13="",0,IFERROR(COUNTIFS(Check!$E$2:$E$500,"ChatGPT",Check!$A$2:$A$500,"<=16",Check!$F$2:$F$500,"Yes",Check!$D$2:$D$500,">="&$A13,Check!$D$2:$D$500,"<"&EDATE($A13,1))/COUNTIFS(Check!$E$2:$E$500,"ChatGPT",Check!$A$2:$A$500,"<=16",Check!$F$2:$F$500,"<>",Check!$D$2:$D$500,">="&$A13,Check!$D$2:$D$500,"<"&EDATE($A13,1)),0)) | C13: =IF($A13="",0,IFERROR(COUNTIFS(Check!$E$2:$E$500,"Gemini",Check!$A$2:$A$500,"<=16",Check!$F$2:$F$500,"Yes",Check!$D$2:$D$500,">="&$A13,Check!$D$2:$D$500,"<"&EDATE($A13,1))/COUNTIFS(Check!$E$2:$E$500,"Gemini",Check!$A$2:$A$500,"<=16",Check!$F$2:$F$500,"<>",Check!$D$2:$D$500,">="&$A13,Check!$D$2:$D$500,"<"&EDATE($A13,1)),0)) | D13: =IF($A13="",0,IFERROR(COUNTIFS(Check!$E$2:$E$500,"Google AI",Check!$A$2:$A$500,"<=16",Check!$F$2:$F$500,"Yes",Check!$D$2:$D$500,">="&$A13,Check!$D$2:$D$500,"<"&EDATE($A13,1))/COUNTIFS(Check!$E$2:$E$500,"Google AI",Check!$A$2:$A$500,"<=16",Check!$F$2:$F$500,"<>",Check!$D$2:$D$500,">="&$A13,Check!$D$2:$D$500,"<"&EDATE($A13,1)),0)) | E13: =IF($A13="",0,IFERROR(COUNTIFS(Check!$E$2:$E$500,"ChatGPT",Check!$A$2:$A$500,">=17",Check!$J$2:$J$500,"Yes",Check!$D$2:$D$500,">="&$A13,Check!$D$2:$D$500,"<"&EDATE($A13,1))/COUNTIFS(Check!$E$2:$E$500,"ChatGPT",Check!$A$2:$A$500,">=17",Check!$J$2:$J$500,"<>",Check!$D$2:$D$500,">="&$A13,Check!$D$2:$D$500,"<"&EDATE($A13,1)),0)) | F13: =IF($A13="",0,IFERROR(COUNTIFS(Check!$E$2:$E$500,"Gemini",Check!$A$2:$A$500,">=17",Check!$J$2:$J$500,"Yes",Check!$D$2:$D$500,">="&$A13,Check!$D$2:$D$500,"<"&EDATE($A13,1))/COUNTIFS(Check!$E$2:$E$500,"Gemini",Check!$A$2:$A$500,">=17",Check!$J$2:$J$500,"<>",Check!$D$2:$D$500,">="&$A13,Check!$D$2:$D$500,"<"&EDATE($A13,1)),0)) | G13: =IF($A13="",0,IFERROR(COUNTIFS(Check!$E$2:$E$500,"Google AI",Check!$A$2:$A$500,">=17",Check!$J$2:$J$500,"Yes",Check!$D$2:$D$500,">="&$A13,Check!$D$2:$D$500,"<"&EDATE($A13,1))/COUNTIFS(Check!$E$2:$E$500,"Google AI",Check!$A$2:$A$500,">=17",Check!$J$2:$J$500,"<>",Check!$D$2:$D$500,">="&$A13,Check!$D$2:$D$500,"<"&EDATE($A13,1)),0))
B14: =IF($A14="",0,IFERROR(COUNTIFS(Check!$E$2:$E$500,"ChatGPT",Check!$A$2:$A$500,"<=16",Check!$F$2:$F$500,"Yes",Check!$D$2:$D$500,">="&$A14,Check!$D$2:$D$500,"<"&EDATE($A14,1))/COUNTIFS(Check!$E$2:$E$500,"ChatGPT",Check!$A$2:$A$500,"<=16",Check!$F$2:$F$500,"<>",Check!$D$2:$D$500,">="&$A14,Check!$D$2:$D$500,"<"&EDATE($A14,1)),0)) | C14: =IF($A14="",0,IFERROR(COUNTIFS(Check!$E$2:$E$500,"Gemini",Check!$A$2:$A$500,"<=16",Check!$F$2:$F$500,"Yes",Check!$D$2:$D$500,">="&$A14,Check!$D$2:$D$500,"<"&EDATE($A14,1))/COUNTIFS(Check!$E$2:$E$500,"Gemini",Check!$A$2:$A$500,"<=16",Check!$F$2:$F$500,"<>",Check!$D$2:$D$500,">="&$A14,Check!$D$2:$D$500,"<"&EDATE($A14,1)),0)) | D14: =IF($A14="",0,IFERROR(COUNTIFS(Check!$E$2:$E$500,"Google AI",Check!$A$2:$A$500,"<=16",Check!$F$2:$F$500,"Yes",Check!$D$2:$D$500,">="&$A14,Check!$D$2:$D$500,"<"&EDATE($A14,1))/COUNTIFS(Check!$E$2:$E$500,"Google AI",Check!$A$2:$A$500,"<=16",Check!$F$2:$F$500,"<>",Check!$D$2:$D$500,">="&$A14,Check!$D$2:$D$500,"<"&EDATE($A14,1)),0)) | E14: =IF($A14="",0,IFERROR(COUNTIFS(Check!$E$2:$E$500,"ChatGPT",Check!$A$2:$A$500,">=17",Check!$J$2:$J$500,"Yes",Check!$D$2:$D$500,">="&$A14,Check!$D$2:$D$500,"<"&EDATE($A14,1))/COUNTIFS(Check!$E$2:$E$500,"ChatGPT",Check!$A$2:$A$500,">=17",Check!$J$2:$J$500,"<>",Check!$D$2:$D$500,">="&$A14,Check!$D$2:$D$500,"<"&EDATE($A14,1)),0)) | F14: =IF($A14="",0,IFERROR(COUNTIFS(Check!$E$2:$E$500,"Gemini",Check!$A$2:$A$500,">=17",Check!$J$2:$J$500,"Yes",Check!$D$2:$D$500,">="&$A14,Check!$D$2:$D$500,"<"&EDATE($A14,1))/COUNTIFS(Check!$E$2:$E$500,"Gemini",Check!$A$2:$A$500,">=17",Check!$J$2:$J$500,"<>",Check!$D$2:$D$500,">="&$A14,Check!$D$2:$D$500,"<"&EDATE($A14,1)),0)) | G14: =IF($A14="",0,IFERROR(COUNTIFS(Check!$E$2:$E$500,"Google AI",Check!$A$2:$A$500,">=17",Check!$J$2:$J$500,"Yes",Check!$D$2:$D$500,">="&$A14,Check!$D$2:$D$500,"<"&EDATE($A14,1))/COUNTIFS(Check!$E$2:$E$500,"Google AI",Check!$A$2:$A$500,">=17",Check!$J$2:$J$500,"<>",Check!$D$2:$D$500,">="&$A14,Check!$D$2:$D$500,"<"&EDATE($A14,1)),0))
B15: =IF($A15="",0,IFERROR(COUNTIFS(Check!$E$2:$E$500,"ChatGPT",Check!$A$2:$A$500,"<=16",Check!$F$2:$F$500,"Yes",Check!$D$2:$D$500,">="&$A15,Check!$D$2:$D$500,"<"&EDATE($A15,1))/COUNTIFS(Check!$E$2:$E$500,"ChatGPT",Check!$A$2:$A$500,"<=16",Check!$F$2:$F$500,"<>",Check!$D$2:$D$500,">="&$A15,Check!$D$2:$D$500,"<"&EDATE($A15,1)),0)) | C15: =IF($A15="",0,IFERROR(COUNTIFS(Check!$E$2:$E$500,"Gemini",Check!$A$2:$A$500,"<=16",Check!$F$2:$F$500,"Yes",Check!$D$2:$D$500,">="&$A15,Check!$D$2:$D$500,"<"&EDATE($A15,1))/COUNTIFS(Check!$E$2:$E$500,"Gemini",Check!$A$2:$A$500,"<=16",Check!$F$2:$F$500,"<>",Check!$D$2:$D$500,">="&$A15,Check!$D$2:$D$500,"<"&EDATE($A15,1)),0)) | D15: =IF($A15="",0,IFERROR(COUNTIFS(Check!$E$2:$E$500,"Google AI",Check!$A$2:$A$500,"<=16",Check!$F$2:$F$500,"Yes",Check!$D$2:$D$500,">="&$A15,Check!$D$2:$D$500,"<"&EDATE($A15,1))/COUNTIFS(Check!$E$2:$E$500,"Google AI",Check!$A$2:$A$500,"<=16",Check!$F$2:$F$500,"<>",Check!$D$2:$D$500,">="&$A15,Check!$D$2:$D$500,"<"&EDATE($A15,1)),0)) | E15: =IF($A15="",0,IFERROR(COUNTIFS(Check!$E$2:$E$500,"ChatGPT",Check!$A$2:$A$500,">=17",Check!$J$2:$J$500,"Yes",Check!$D$2:$D$500,">="&$A15,Check!$D$2:$D$500,"<"&EDATE($A15,1))/COUNTIFS(Check!$E$2:$E$500,"ChatGPT",Check!$A$2:$A$500,">=17",Check!$J$2:$J$500,"<>",Check!$D$2:$D$500,">="&$A15,Check!$D$2:$D$500,"<"&EDATE($A15,1)),0)) | F15: =IF($A15="",0,IFERROR(COUNTIFS(Check!$E$2:$E$500,"Gemini",Check!$A$2:$A$500,">=17",Check!$J$2:$J$500,"Yes",Check!$D$2:$D$500,">="&$A15,Check!$D$2:$D$500,"<"&EDATE($A15,1))/COUNTIFS(Check!$E$2:$E$500,"Gemini",Check!$A$2:$A$500,">=17",Check!$J$2:$J$500,"<>",Check!$D$2:$D$500,">="&$A15,Check!$D$2:$D$500,"<"&EDATE($A15,1)),0)) | G15: =IF($A15="",0,IFERROR(COUNTIFS(Check!$E$2:$E$500,"Google AI",Check!$A$2:$A$500,">=17",Check!$J$2:$J$500,"Yes",Check!$D$2:$D$500,">="&$A15,Check!$D$2:$D$500,"<"&EDATE($A15,1))/COUNTIFS(Check!$E$2:$E$500,"Google AI",Check!$A$2:$A$500,">=17",Check!$J$2:$J$500,"<>",Check!$D$2:$D$500,">="&$A15,Check!$D$2:$D$500,"<"&EDATE($A15,1)),0))
B16: =IF($A16="",0,IFERROR(COUNTIFS(Check!$E$2:$E$500,"ChatGPT",Check!$A$2:$A$500,"<=16",Check!$F$2:$F$500,"Yes",Check!$D$2:$D$500,">="&$A16,Check!$D$2:$D$500,"<"&EDATE($A16,1))/COUNTIFS(Check!$E$2:$E$500,"ChatGPT",Check!$A$2:$A$500,"<=16",Check!$F$2:$F$500,"<>",Check!$D$2:$D$500,">="&$A16,Check!$D$2:$D$500,"<"&EDATE($A16,1)),0)) | C16: =IF($A16="",0,IFERROR(COUNTIFS(Check!$E$2:$E$500,"Gemini",Check!$A$2:$A$500,"<=16",Check!$F$2:$F$500,"Yes",Check!$D$2:$D$500,">="&$A16,Check!$D$2:$D$500,"<"&EDATE($A16,1))/COUNTIFS(Check!$E$2:$E$500,"Gemini",Check!$A$2:$A$500,"<=16",Check!$F$2:$F$500,"<>",Check!$D$2:$D$500,">="&$A16,Check!$D$2:$D$500,"<"&EDATE($A16,1)),0)) | D16: =IF($A16="",0,IFERROR(COUNTIFS(Check!$E$2:$E$500,"Google AI",Check!$A$2:$A$500,"<=16",Check!$F$2:$F$500,"Yes",Check!$D$2:$D$500,">="&$A16,Check!$D$2:$D$500,"<"&EDATE($A16,1))/COUNTIFS(Check!$E$2:$E$500,"Google AI",Check!$A$2:$A$500,"<=16",Check!$F$2:$F$500,"<>",Check!$D$2:$D$500,">="&$A16,Check!$D$2:$D$500,"<"&EDATE($A16,1)),0)) | E16: =IF($A16="",0,IFERROR(COUNTIFS(Check!$E$2:$E$500,"ChatGPT",Check!$A$2:$A$500,">=17",Check!$J$2:$J$500,"Yes",Check!$D$2:$D$500,">="&$A16,Check!$D$2:$D$500,"<"&EDATE($A16,1))/COUNTIFS(Check!$E$2:$E$500,"ChatGPT",Check!$A$2:$A$500,">=17",Check!$J$2:$J$500,"<>",Check!$D$2:$D$500,">="&$A16,Check!$D$2:$D$500,"<"&EDATE($A16,1)),0)) | F16: =IF($A16="",0,IFERROR(COUNTIFS(Check!$E$2:$E$500,"Gemini",Check!$A$2:$A$500,">=17",Check!$J$2:$J$500,"Yes",Check!$D$2:$D$500,">="&$A16,Check!$D$2:$D$500,"<"&EDATE($A16,1))/COUNTIFS(Check!$E$2:$E$500,"Gemini",Check!$A$2:$A$500,">=17",Check!$J$2:$J$500,"<>",Check!$D$2:$D$500,">="&$A16,Check!$D$2:$D$500,"<"&EDATE($A16,1)),0)) | G16: =IF($A16="",0,IFERROR(COUNTIFS(Check!$E$2:$E$500,"Google AI",Check!$A$2:$A$500,">=17",Check!$J$2:$J$500,"Yes",Check!$D$2:$D$500,">="&$A16,Check!$D$2:$D$500,"<"&EDATE($A16,1))/COUNTIFS(Check!$E$2:$E$500,"Google AI",Check!$A$2:$A$500,">=17",Check!$J$2:$J$500,"<>",Check!$D$2:$D$500,">="&$A16,Check!$D$2:$D$500,"<"&EDATE($A16,1)),0))
B17: =IF($A17="",0,IFERROR(COUNTIFS(Check!$E$2:$E$500,"ChatGPT",Check!$A$2:$A$500,"<=16",Check!$F$2:$F$500,"Yes",Check!$D$2:$D$500,">="&$A17,Check!$D$2:$D$500,"<"&EDATE($A17,1))/COUNTIFS(Check!$E$2:$E$500,"ChatGPT",Check!$A$2:$A$500,"<=16",Check!$F$2:$F$500,"<>",Check!$D$2:$D$500,">="&$A17,Check!$D$2:$D$500,"<"&EDATE($A17,1)),0)) | C17: =IF($A17="",0,IFERROR(COUNTIFS(Check!$E$2:$E$500,"Gemini",Check!$A$2:$A$500,"<=16",Check!$F$2:$F$500,"Yes",Check!$D$2:$D$500,">="&$A17,Check!$D$2:$D$500,"<"&EDATE($A17,1))/COUNTIFS(Check!$E$2:$E$500,"Gemini",Check!$A$2:$A$500,"<=16",Check!$F$2:$F$500,"<>",Check!$D$2:$D$500,">="&$A17,Check!$D$2:$D$500,"<"&EDATE($A17,1)),0)) | D17: =IF($A17="",0,IFERROR(COUNTIFS(Check!$E$2:$E$500,"Google AI",Check!$A$2:$A$500,"<=16",Check!$F$2:$F$500,"Yes",Check!$D$2:$D$500,">="&$A17,Check!$D$2:$D$500,"<"&EDATE($A17,1))/COUNTIFS(Check!$E$2:$E$500,"Google AI",Check!$A$2:$A$500,"<=16",Check!$F$2:$F$500,"<>",Check!$D$2:$D$500,">="&$A17,Check!$D$2:$D$500,"<"&EDATE($A17,1)),0)) | E17: =IF($A17="",0,IFERROR(COUNTIFS(Check!$E$2:$E$500,"ChatGPT",Check!$A$2:$A$500,">=17",Check!$J$2:$J$500,"Yes",Check!$D$2:$D$500,">="&$A17,Check!$D$2:$D$500,"<"&EDATE($A17,1))/COUNTIFS(Check!$E$2:$E$500,"ChatGPT",Check!$A$2:$A$500,">=17",Check!$J$2:$J$500,"<>",Check!$D$2:$D$500,">="&$A17,Check!$D$2:$D$500,"<"&EDATE($A17,1)),0)) | F17: =IF($A17="",0,IFERROR(COUNTIFS(Check!$E$2:$E$500,"Gemini",Check!$A$2:$A$500,">=17",Check!$J$2:$J$500,"Yes",Check!$D$2:$D$500,">="&$A17,Check!$D$2:$D$500,"<"&EDATE($A17,1))/COUNTIFS(Check!$E$2:$E$500,"Gemini",Check!$A$2:$A$500,">=17",Check!$J$2:$J$500,"<>",Check!$D$2:$D$500,">="&$A17,Check!$D$2:$D$500,"<"&EDATE($A17,1)),0)) | G17: =IF($A17="",0,IFERROR(COUNTIFS(Check!$E$2:$E$500,"Google AI",Check!$A$2:$A$500,">=17",Check!$J$2:$J$500,"Yes",Check!$D$2:$D$500,">="&$A17,Check!$D$2:$D$500,"<"&EDATE($A17,1))/COUNTIFS(Check!$E$2:$E$500,"Google AI",Check!$A$2:$A$500,">=17",Check!$J$2:$J$500,"<>",Check!$D$2:$D$500,">="&$A17,Check!$D$2:$D$500,"<"&EDATE($A17,1)),0))
B18: =IF($A18="",0,IFERROR(COUNTIFS(Check!$E$2:$E$500,"ChatGPT",Check!$A$2:$A$500,"<=16",Check!$F$2:$F$500,"Yes",Check!$D$2:$D$500,">="&$A18,Check!$D$2:$D$500,"<"&EDATE($A18,1))/COUNTIFS(Check!$E$2:$E$500,"ChatGPT",Check!$A$2:$A$500,"<=16",Check!$F$2:$F$500,"<>",Check!$D$2:$D$500,">="&$A18,Check!$D$2:$D$500,"<"&EDATE($A18,1)),0)) | C18: =IF($A18="",0,IFERROR(COUNTIFS(Check!$E$2:$E$500,"Gemini",Check!$A$2:$A$500,"<=16",Check!$F$2:$F$500,"Yes",Check!$D$2:$D$500,">="&$A18,Check!$D$2:$D$500,"<"&EDATE($A18,1))/COUNTIFS(Check!$E$2:$E$500,"Gemini",Check!$A$2:$A$500,"<=16",Check!$F$2:$F$500,"<>",Check!$D$2:$D$500,">="&$A18,Check!$D$2:$D$500,"<"&EDATE($A18,1)),0)) | D18: =IF($A18="",0,IFERROR(COUNTIFS(Check!$E$2:$E$500,"Google AI",Check!$A$2:$A$500,"<=16",Check!$F$2:$F$500,"Yes",Check!$D$2:$D$500,">="&$A18,Check!$D$2:$D$500,"<"&EDATE($A18,1))/COUNTIFS(Check!$E$2:$E$500,"Google AI",Check!$A$2:$A$500,"<=16",Check!$F$2:$F$500,"<>",Check!$D$2:$D$500,">="&$A18,Check!$D$2:$D$500,"<"&EDATE($A18,1)),0)) | E18: =IF($A18="",0,IFERROR(COUNTIFS(Check!$E$2:$E$500,"ChatGPT",Check!$A$2:$A$500,">=17",Check!$J$2:$J$500,"Yes",Check!$D$2:$D$500,">="&$A18,Check!$D$2:$D$500,"<"&EDATE($A18,1))/COUNTIFS(Check!$E$2:$E$500,"ChatGPT",Check!$A$2:$A$500,">=17",Check!$J$2:$J$500,"<>",Check!$D$2:$D$500,">="&$A18,Check!$D$2:$D$500,"<"&EDATE($A18,1)),0)) | F18: =IF($A18="",0,IFERROR(COUNTIFS(Check!$E$2:$E$500,"Gemini",Check!$A$2:$A$500,">=17",Check!$J$2:$J$500,"Yes",Check!$D$2:$D$500,">="&$A18,Check!$D$2:$D$500,"<"&EDATE($A18,1))/COUNTIFS(Check!$E$2:$E$500,"Gemini",Check!$A$2:$A$500,">=17",Check!$J$2:$J$500,"<>",Check!$D$2:$D$500,">="&$A18,Check!$D$2:$D$500,"<"&EDATE($A18,1)),0)) | G18: =IF($A18="",0,IFERROR(COUNTIFS(Check!$E$2:$E$500,"Google AI",Check!$A$2:$A$500,">=17",Check!$J$2:$J$500,"Yes",Check!$D$2:$D$500,">="&$A18,Check!$D$2:$D$500,"<"&EDATE($A18,1))/COUNTIFS(Check!$E$2:$E$500,"Google AI",Check!$A$2:$A$500,">=17",Check!$J$2:$J$500,"<>",Check!$D$2:$D$500,">="&$A18,Check!$D$2:$D$500,"<"&EDATE($A18,1)),0))
B19: =IF($A19="",0,IFERROR(COUNTIFS(Check!$E$2:$E$500,"ChatGPT",Check!$A$2:$A$500,"<=16",Check!$F$2:$F$500,"Yes",Check!$D$2:$D$500,">="&$A19,Check!$D$2:$D$500,"<"&EDATE($A19,1))/COUNTIFS(Check!$E$2:$E$500,"ChatGPT",Check!$A$2:$A$500,"<=16",Check!$F$2:$F$500,"<>",Check!$D$2:$D$500,">="&$A19,Check!$D$2:$D$500,"<"&EDATE($A19,1)),0)) | C19: =IF($A19="",0,IFERROR(COUNTIFS(Check!$E$2:$E$500,"Gemini",Check!$A$2:$A$500,"<=16",Check!$F$2:$F$500,"Yes",Check!$D$2:$D$500,">="&$A19,Check!$D$2:$D$500,"<"&EDATE($A19,1))/COUNTIFS(Check!$E$2:$E$500,"Gemini",Check!$A$2:$A$500,"<=16",Check!$F$2:$F$500,"<>",Check!$D$2:$D$500,">="&$A19,Check!$D$2:$D$500,"<"&EDATE($A19,1)),0)) | D19: =IF($A19="",0,IFERROR(COUNTIFS(Check!$E$2:$E$500,"Google AI",Check!$A$2:$A$500,"<=16",Check!$F$2:$F$500,"Yes",Check!$D$2:$D$500,">="&$A19,Check!$D$2:$D$500,"<"&EDATE($A19,1))/COUNTIFS(Check!$E$2:$E$500,"Google AI",Check!$A$2:$A$500,"<=16",Check!$F$2:$F$500,"<>",Check!$D$2:$D$500,">="&$A19,Check!$D$2:$D$500,"<"&EDATE($A19,1)),0)) | E19: =IF($A19="",0,IFERROR(COUNTIFS(Check!$E$2:$E$500,"ChatGPT",Check!$A$2:$A$500,">=17",Check!$J$2:$J$500,"Yes",Check!$D$2:$D$500,">="&$A19,Check!$D$2:$D$500,"<"&EDATE($A19,1))/COUNTIFS(Check!$E$2:$E$500,"ChatGPT",Check!$A$2:$A$500,">=17",Check!$J$2:$J$500,"<>",Check!$D$2:$D$500,">="&$A19,Check!$D$2:$D$500,"<"&EDATE($A19,1)),0)) | F19: =IF($A19="",0,IFERROR(COUNTIFS(Check!$E$2:$E$500,"Gemini",Check!$A$2:$A$500,">=17",Check!$J$2:$J$500,"Yes",Check!$D$2:$D$500,">="&$A19,Check!$D$2:$D$500,"<"&EDATE($A19,1))/COUNTIFS(Check!$E$2:$E$500,"Gemini",Check!$A$2:$A$500,">=17",Check!$J$2:$J$500,"<>",Check!$D$2:$D$500,">="&$A19,Check!$D$2:$D$500,"<"&EDATE($A19,1)),0)) | G19: =IF($A19="",0,IFERROR(COUNTIFS(Check!$E$2:$E$500,"Google AI",Check!$A$2:$A$500,">=17",Check!$J$2:$J$500,"Yes",Check!$D$2:$D$500,">="&$A19,Check!$D$2:$D$500,"<"&EDATE($A19,1))/COUNTIFS(Check!$E$2:$E$500,"Google AI",Check!$A$2:$A$500,">=17",Check!$J$2:$J$500,"<>",Check!$D$2:$D$500,">="&$A19,Check!$D$2:$D$500,"<"&EDATE($A19,1)),0))
B20: =IF($A20="",0,IFERROR(COUNTIFS(Check!$E$2:$E$500,"ChatGPT",Check!$A$2:$A$500,"<=16",Check!$F$2:$F$500,"Yes",Check!$D$2:$D$500,">="&$A20,Check!$D$2:$D$500,"<"&EDATE($A20,1))/COUNTIFS(Check!$E$2:$E$500,"ChatGPT",Check!$A$2:$A$500,"<=16",Check!$F$2:$F$500,"<>",Check!$D$2:$D$500,">="&$A20,Check!$D$2:$D$500,"<"&EDATE($A20,1)),0)) | C20: =IF($A20="",0,IFERROR(COUNTIFS(Check!$E$2:$E$500,"Gemini",Check!$A$2:$A$500,"<=16",Check!$F$2:$F$500,"Yes",Check!$D$2:$D$500,">="&$A20,Check!$D$2:$D$500,"<"&EDATE($A20,1))/COUNTIFS(Check!$E$2:$E$500,"Gemini",Check!$A$2:$A$500,"<=16",Check!$F$2:$F$500,"<>",Check!$D$2:$D$500,">="&$A20,Check!$D$2:$D$500,"<"&EDATE($A20,1)),0)) | D20: =IF($A20="",0,IFERROR(COUNTIFS(Check!$E$2:$E$500,"Google AI",Check!$A$2:$A$500,"<=16",Check!$F$2:$F$500,"Yes",Check!$D$2:$D$500,">="&$A20,Check!$D$2:$D$500,"<"&EDATE($A20,1))/COUNTIFS(Check!$E$2:$E$500,"Google AI",Check!$A$2:$A$500,"<=16",Check!$F$2:$F$500,"<>",Check!$D$2:$D$500,">="&$A20,Check!$D$2:$D$500,"<"&EDATE($A20,1)),0)) | E20: =IF($A20="",0,IFERROR(COUNTIFS(Check!$E$2:$E$500,"ChatGPT",Check!$A$2:$A$500,">=17",Check!$J$2:$J$500,"Yes",Check!$D$2:$D$500,">="&$A20,Check!$D$2:$D$500,"<"&EDATE($A20,1))/COUNTIFS(Check!$E$2:$E$500,"ChatGPT",Check!$A$2:$A$500,">=17",Check!$J$2:$J$500,"<>",Check!$D$2:$D$500,">="&$A20,Check!$D$2:$D$500,"<"&EDATE($A20,1)),0)) | F20: =IF($A20="",0,IFERROR(COUNTIFS(Check!$E$2:$E$500,"Gemini",Check!$A$2:$A$500,">=17",Check!$J$2:$J$500,"Yes",Check!$D$2:$D$500,">="&$A20,Check!$D$2:$D$500,"<"&EDATE($A20,1))/COUNTIFS(Check!$E$2:$E$500,"Gemini",Check!$A$2:$A$500,">=17",Check!$J$2:$J$500,"<>",Check!$D$2:$D$500,">="&$A20,Check!$D$2:$D$500,"<"&EDATE($A20,1)),0)) | G20: =IF($A20="",0,IFERROR(COUNTIFS(Check!$E$2:$E$500,"Google AI",Check!$A$2:$A$500,">=17",Check!$J$2:$J$500,"Yes",Check!$D$2:$D$500,">="&$A20,Check!$D$2:$D$500,"<"&EDATE($A20,1))/COUNTIFS(Check!$E$2:$E$500,"Google AI",Check!$A$2:$A$500,">=17",Check!$J$2:$J$500,"<>",Check!$D$2:$D$500,">="&$A20,Check!$D$2:$D$500,"<"&EDATE($A20,1)),0))
